BEGIN:VCALENDAR
VERSION:2.0
PRODID:-//orgCentral//EN_US
CALSCALE:GREGORIAN
METHOD:PUBLISH
BEGIN:VEVENT
DTSTART:20260423T233000Z
DTEND:20260424T020000Z
LOCATION:Uncle's Bar & Social Club\n56 Talisman Dr #8\nPagosa Springs Colorado\, 81147\n\n\n\n
CATEGORIES:Event
SUMMARY:BINGO Night @ Uncle's Bar & Social Club  
DESCRIPTION:\n	BINGO Night! We&rsquo;ll play 4&ndash;5 rounds\, so there are plenty of chances to win while you enjoy cold beer\, great cocktails\, and some solid bar snacks. 6:30pm.&nbsp;\n\n	https://www.unclesbarpagosa.com/\n
SEQUENCE:0
UID:507ba81f7694ddcc3094a2d96fcba03d@69.167.152.199
URL:https://visitpagosasprings.com/section=events&evtid=10047
X-MICROSOFT-CDO-IMPORTANCE:2
CLASS:PUBLIC
DTSTAMP:20260420T174748
CREATED:20260420T174748
END:VEVENT
END:VCALENDAR
