BEGIN:VCALENDAR
VERSION:2.0
PRODID:-//orgCentral//EN_US
CALSCALE:GREGORIAN
METHOD:PUBLISH
BEGIN:VEVENT
DTSTART:20260425T230000Z
DTEND:20260426T020000Z
LOCATION:Liberty Theatre\n418 Pagosa Street\nPagosa Springs Colorado\, 81147\n970-264-7469\nphil@pagosamovies.com\nhttp://www.pagosamovies.com/\n
CATEGORIES:Event
SUMMARY:HOPPERS @ Liberty Theatre 
DESCRIPTION:\n	Rated PG. Hoppers (2026) is Pixar&rsquo;s animated sci-fi action comedy about Mabel\, a 19 year old animal lover who uses groundbreaking tech to transfer her mind into a robotic beaver\, granting her the ability to communicate with animals. This colorful\, high-energy adventure blends humor\, heart\, and inventive world-building with a spy-thriller edge\, making it look like a fresh\, family-friendly original worth watching. 6pm.&nbsp;Doors and Caldwell&rsquo;s Liberty Bar open 60 min before showtime.\n\n	More information and tickets at&nbsp;https://www.pagosamovies.com/\n\n	&nbsp;\n\n	&nbsp;\n
SEQUENCE:0
UID:e300074f1310efa8bb2763e281ddc26a@69.167.152.199
URL:https://visitpagosasprings.com/section=events&evtid=10048
X-MICROSOFT-CDO-IMPORTANCE:2
CLASS:PUBLIC
DTSTAMP:20260420T184733
CREATED:20260420T184733
END:VEVENT
END:VCALENDAR
