BEGIN:VCALENDAR
VERSION:2.0
PRODID:-//orgCentral//EN_US
CALSCALE:GREGORIAN
METHOD:PUBLISH
BEGIN:VEVENT
DTSTART:20260422T233000Z
DTEND:20260423T013000Z
LOCATION:The Springs Resort\n323 Hot Springs Blvd\nPagosa Springs Colorado\, 81147\n800-225-0934\n\nhttps://www.pagosahotsprings.com\n
CATEGORIES:Event
SUMMARY:Celebration of Renewal - Moon & Sun Duo Painting Party with Picasso & Vino Studio @ The Springs Resort Lodge
DESCRIPTION:\n	We&#39;re teaming up with The Springs Resort for their Celebration of Renewal taking place through May 8th.&nbsp;Come celebrate the Spring season while you follow along step by step to create your own renewal themed masterpiece! This painting can be painted by a couple...each painting a canvas making a collaborative piece of art with 2 canvases. Or\, if painting individually\, you can decide if you want both images\, or just one\, on your single canvas.&nbsp;We&#39;ll be painting in The Lodge &amp; everything&#39;s included for you to paint along. If you&#39;d like a glass of wine or beer to get you in the artistic frame of mind\, you are welcome to purchase at WILD FINCH\, which is just across the way from The Lodge. LIMITED AVAILABILITY FOR NON-SPRINGS GUESTS SO RESERVE YOUR SEAT NOW. 6:30-8:30pm. $38.\n\n	Reservations at https://picassoandvino.com.&nbsp;&nbsp;\n
SEQUENCE:0
UID:24ef8834a4aa1cfd9c8660f4e3e29b06@69.167.152.199
URL:https://visitpagosasprings.com/section=events&evtid=10051
X-MICROSOFT-CDO-IMPORTANCE:2
CLASS:PUBLIC
DTSTAMP:20260420T175558
CREATED:20260420T175558
END:VEVENT
END:VCALENDAR
