BEGIN:VCALENDAR
VERSION:2.0
PRODID:-//orgCentral//EN_US
CALSCALE:GREGORIAN
METHOD:PUBLISH
BEGIN:VEVENT
DTSTART:20250830T210000Z
DTEND:20250831T020000Z
LOCATION:Yamaguchi Park\n684 S 5th St\nPagosa Springs Colorado\, 81147\n\n\n\n
CATEGORIES:Event
SUMMARY:2025 Pagosa Springs Summer Concert Series Labor Day Weekend @ Yamaguchi Park
DESCRIPTION:\n	Close out this year&rsquo;s Summer Concert Series with an unforgettable evening of live music at Yamaguchi Park! This Labor Day Weekend\, enjoy performances by Blessing Chimanga Experience\, High Country Hustle\, and Rex Peoples &amp; The Xfactr\, bringing a vibrant mix of African rhythms\, high-energy bluegrass\, and soulful R&amp;B to the stage.\n\n	Before the music begins\, join us for an all-levels yoga class at 4 PM with LucidSol Studio. Led by Elisa\, founder of LucidSol\, this class is included with your ticket and offers a grounding\, joyful way to start the evening.\n\n	Tickets are just $10\, and children under 18 get in free. VIP Tickets are available for $50 &ndash; includes free drinks (must be 21+) and other fun perks!\n\n	More info and tickets at:&nbsp;&nbsp;https://www.pagosaspringsconcertseries.com/\n
SEQUENCE:0
UID:cb1c012b35383df2f6fa51a889b08ecc@69.167.152.199
URL:https://visitpagosasprings.com/section=events&evtid=7346
X-MICROSOFT-CDO-IMPORTANCE:2
CLASS:PUBLIC
DTSTAMP:20260419T153639
CREATED:20260419T153639
END:VEVENT
END:VCALENDAR
