BEGIN:VCALENDAR
VERSION:2.0
PRODID:-//orgCentral//EN_US
CALSCALE:GREGORIAN
METHOD:PUBLISH
BEGIN:VEVENT
DTSTART:20250920T130000Z
DTEND:20250920T160000Z
LOCATION:Yamaguchi Park\n684 S 5th St\nPagosa Springs Colorado\, 81147\n\n\n\n
CATEGORIES:Event
SUMMARY:2025 Aspen House Color Run 5K Run/Walk @ Yamaguchi Park
DESCRIPTION:\n	Hosted by the non-profit A Safe Place in Pagosa\, Inc. (dba Aspen House &amp; Aspen Services)\, this event is for the entire family. Run\, walk\, or baby stroller your way through our 5K course. This is an untimed event. You can get your white T-shirt color-coordinated by our volunteers at several color stations. The course is very user-friendly\, scenic\, and mostly flat so all can complete it. There will be awards/prizes for various costume categories so be creative and come decked out for some Colorful Fun!! 8am. Registration $10 for ages 0-5\, $25 ages 6-16\, $35 for 18+.&nbsp;&nbsp;\n\n	https://runsignup.com/Race/CO/PagosaSprings/ColorFestColorRunWalk5K\n\n	Registrations stay open until race day\, September 20. Race day registrations are CASH ONLY!\n\n	Pre-race packet pick up is Friday\, September 19 at PS FroYo\, 459 Lewis Street from 4:30-7:00 p.m. Registrations will also take place at this time. If you cannot make pre-race pickup\, check-in begins at 6:45 a.m. through 7:30 a.m.\n\n	All proceeds benefit the building of a home and providing services for adults with developmental disabilities in Pagosa Springs\, CO.\n
SEQUENCE:0
UID:382c1ca5d58307b4c69dda31c4d39c71@69.167.152.199
URL:https://visitpagosasprings.com/section=events&evtid=8705
X-MICROSOFT-CDO-IMPORTANCE:2
CLASS:PUBLIC
DTSTAMP:20260420T064455
CREATED:20260420T064455
END:VEVENT
END:VCALENDAR
